BEGIN:VCALENDAR
VERSION:2.0
PRODID:-//Dunkington - ECPv6.15.20//NONSGML v1.0//EN
CALSCALE:GREGORIAN
METHOD:PUBLISH
X-ORIGINAL-URL:https://dunkington.com
X-WR-CALDESC:Events for Dunkington
REFRESH-INTERVAL;VALUE=DURATION:PT1H
X-Robots-Tag:noindex
X-PUBLISHED-TTL:PT1H
BEGIN:VTIMEZONE
TZID:America/Chicago
BEGIN:DAYLIGHT
TZOFFSETFROM:-0600
TZOFFSETTO:-0500
TZNAME:CDT
DTSTART:20240310T080000
END:DAYLIGHT
BEGIN:STANDARD
TZOFFSETFROM:-0500
TZOFFSETTO:-0600
TZNAME:CST
DTSTART:20241103T070000
END:STANDARD
BEGIN:DAYLIGHT
TZOFFSETFROM:-0600
TZOFFSETTO:-0500
TZNAME:CDT
DTSTART:20250309T080000
END:DAYLIGHT
BEGIN:STANDARD
TZOFFSETFROM:-0500
TZOFFSETTO:-0600
TZNAME:CST
DTSTART:20251102T070000
END:STANDARD
BEGIN:DAYLIGHT
TZOFFSETFROM:-0600
TZOFFSETTO:-0500
TZNAME:CDT
DTSTART:20260308T080000
END:DAYLIGHT
BEGIN:STANDARD
TZOFFSETFROM:-0500
TZOFFSETTO:-0600
TZNAME:CST
DTSTART:20261101T070000
END:STANDARD
END:VTIMEZONE
BEGIN:VEVENT
DTSTART;TZID=America/Chicago:20251206T080000
DTEND;TZID=America/Chicago:20251206T140000
DTSTAMP:20260423T105539
CREATED:20250924T215307Z
LAST-MODIFIED:20250924T215307Z
UID:5569-1765008000-1765029600@dunkington.com
SUMMARY:Hebron Christmas Market
DESCRIPTION:Come celebrate the season with us at the Hebron Christmas Market on Saturday\, December 6. The market is open from 8 am to 2 pm at Hebron Christian School\, 5100 Henryville Road in Pheba\, MS. Browse holiday vendors\, discover unique gifts\, and enjoy a festive day of shopping. Don’t forget to swing by our booth to see all the handmade treasures we’ll have available.
URL:https://dunkington.com/event/hebron-christmas-market/
LOCATION:MS
CATEGORIES:Arts & Crafts Festivals
ATTACH;FMTTYPE=image/jpeg:https://dunkington.com/wp-content/uploads/2025/09/IMG_2738-e1758750777171.jpeg
END:VEVENT
BEGIN:VEVENT
DTSTART;TZID=America/Chicago:20251129T140000
DTEND;TZID=America/Chicago:20251129T160000
DTSTAMP:20260423T105539
CREATED:20250924T212914Z
LAST-MODIFIED:20250924T212914Z
UID:5564-1764424800-1764432000@dunkington.com
SUMMARY:Pour Your Art Out: An Ornament Paint Party
DESCRIPTION:Mark your calendars for Saturday\, November 29 from 2 to 4 pm and join us for a creative\, family friendly afternoon of holiday fun. \nGuests are encouraged to bring along their favorite snacks and drinks to enjoy while painting. Each attendee will paint two wooden Christmas ornaments chosen from an assortment of various festive shapes that are perfect for decorating your tree or gifting to someone special. Once completed\, ornaments will be sealed and finished\, and will be ready for pickup about a week later. \nThis event is perfect for all ages and skill levels. Whether you come with family\, friends\, or on your own\, it is a wonderful way to relax\, get creative\, and make something meaningful to kick off the holiday season.
URL:https://dunkington.com/event/pour-your-art-out-an-ornament-paint-party/
LOCATION:Dunkington Art & Jewelry\, 109 South Lafayette St.\, Starkville\, MS\, 39759\, United States
CATEGORIES:Creative Experiences,Downtown Event,Dunkington Event
ATTACH;FMTTYPE=image/png:https://dunkington.com/wp-content/uploads/2025/03/5-4.png
END:VEVENT
BEGIN:VEVENT
DTSTART;VALUE=DATE:20251109
DTEND;VALUE=DATE:20251110
DTSTAMP:20260423T105539
CREATED:20250924T220154Z
LAST-MODIFIED:20250924T220154Z
UID:5572-1762646400-1762732799@dunkington.com
SUMMARY:Downtown Starkville's Christmas Open House
DESCRIPTION:Join us for Downtown Starkville’s Christmas Open House on Sunday\, November 9. Shops along Main Street will be decked out for the season and ready to help you kick off your holiday shopping. Enjoy special discounts and promotions that will vary by store as you stroll through downtown\, explore local retailers\, and soak up the festive atmosphere.
URL:https://dunkington.com/event/downtown-starkvilles-christmas-open-house/
LOCATION:MS
CATEGORIES:Downtown Event
ATTACH;FMTTYPE=image/png:https://dunkington.com/wp-content/uploads/2025/09/Screenshot-2025-09-24-170102.png
END:VEVENT
BEGIN:VEVENT
DTSTART;TZID=America/Chicago:20251017T173000
DTEND;TZID=America/Chicago:20251017T203000
DTSTAMP:20260423T105539
CREATED:20250924T220637Z
LAST-MODIFIED:20250924T220637Z
UID:5575-1760722200-1760733000@dunkington.com
SUMMARY:unWine Downtown
DESCRIPTION:Sip\, shop\, and stroll at unWine Downtown on Friday\, October 17 from 5:30 to 8:30 pm. Enjoy wine samples as you explore a variety of participating downtown shops\, each offering a unique selection of merchandise and a festive atmosphere. As a special bonus\, all participating stores will be offering 20% off merchandise exclusively for event attendees. Gather your friends and make it a night of shopping\, sipping\, and supporting local.
URL:https://dunkington.com/event/unwine-downtown/
LOCATION:Dunkington Art & Jewelry\, 109 South Lafayette St.\, Starkville\, MS\, 39759\, United States
CATEGORIES:Downtown Event
ATTACH;FMTTYPE=image/png:https://dunkington.com/wp-content/uploads/2025/09/Screenshot-2025-09-24-170304.png
END:VEVENT
BEGIN:VEVENT
DTSTART;TZID=America/Chicago:20251011T140000
DTEND;TZID=America/Chicago:20251011T160000
DTSTAMP:20260423T105539
CREATED:20250924T212552Z
LAST-MODIFIED:20250924T212552Z
UID:5562-1760191200-1760198400@dunkington.com
SUMMARY:Wicks & Wine: A Candle Pouring Experience
DESCRIPTION:Join us on Saturday\, October 11 from 2 to 4 pm for an afternoon of creativity\, fun\, and fragrance. \nBring your favorite drinks (alcoholic beverages are welcome) and we will provide a spread of snacks to enjoy while you dive into candle making. You will take part in every step of the process from setup and preparation to pouring and finishing. Each guest will make two custom 3.5 ounce candle tins in any scent of their choice. We will feature cozy fall favorites\, new winter fragrances\, and a variety of other scents for you to explore. \nAnd for the first time ever\, guests will be able to take their candles home the very same day\, fresh from the pour! While your creations cool\, the fun will continue with candle bingo and great door prizes for the winners. \nTickets are $30 per person\, and space is limited. Gather your friends\, bring your drinks\, and spend the afternoon with us creating candles\, sharing laughter\, and enjoying good company.
URL:https://dunkington.com/event/wicks-wine-a-candle-pouring-experience/
LOCATION:Dunkington Art & Jewelry\, 109 South Lafayette St.\, Starkville\, MS\, 39759\, United States
CATEGORIES:Creative Experiences,Downtown Event,Dunkington Event
ATTACH;FMTTYPE=image/png:https://dunkington.com/wp-content/uploads/2025/03/6-4.png
END:VEVENT
BEGIN:VEVENT
DTSTART;TZID=America/Chicago:20251004T100000
DTEND;TZID=America/Chicago:20251004T160000
DTSTAMP:20260423T105539
CREATED:20250924T214624Z
LAST-MODIFIED:20250924T214624Z
UID:5566-1759572000-1759593600@dunkington.com
SUMMARY:Robins Street Art Stroll
DESCRIPTION:Come see us on Saturday\, October 4 at the Robins Street Art Stroll in Tupelo. The event is free to attend and runs from 10 am to 4 pm along the 300–400 blocks of Robins Street. Stop by our booth\, shop local\, and enjoy a full day of art\, creativity\, and community.
URL:https://dunkington.com/event/robins-street-art-stroll/
LOCATION:MS
CATEGORIES:Arts & Crafts Festivals
ATTACH;FMTTYPE=image/jpeg:https://dunkington.com/wp-content/uploads/2025/09/489748963_1180851950402397_6431165123488612391_n.jpg
END:VEVENT
BEGIN:VEVENT
DTSTART;TZID=America/Chicago:20250718T180000
DTEND;TZID=America/Chicago:20250718T200000
DTSTAMP:20260423T105539
CREATED:20250523T182359Z
LAST-MODIFIED:20250523T182359Z
UID:5538-1752861600-1752868800@dunkington.com
SUMMARY:Christmas in July Ornament Paint Party
DESCRIPTION:Cool off with some creative fun at Dunkington’s Christmas in July Ornament Pour Party! You’ll get hands-on with our signature swirling paints to create two custom 4” ornaments\, chosen from our current in-stock shapes. No experience needed – just bring your holiday spirit and please\, leave the fruit cake at home! \n🎨 All materials included🍪 Light snacks provided🥤 BYOB – Bring your own beverage of choice \nSpots are limited\, so snag yours early and come pour a little holiday magic with us!
URL:https://dunkington.com/event/christmas-in-july-ornament-paint-party/
LOCATION:Dunkington Art & Jewelry\, 109 South Lafayette St.\, Starkville\, MS\, 39759\, United States
CATEGORIES:Creative Experiences,Downtown Event,Dunkington Event
ATTACH;FMTTYPE=image/png:https://dunkington.com/wp-content/uploads/2025/05/Subtitle.png
END:VEVENT
BEGIN:VEVENT
DTSTART;TZID=America/Chicago:20250714T180000
DTEND;TZID=America/Chicago:20250714T200000
DTSTAMP:20260423T105539
CREATED:20250523T222205Z
LAST-MODIFIED:20250523T222205Z
UID:5541-1752516000-1752523200@dunkington.com
SUMMARY:Fall & Winter Candle Fragrance Focus Group
DESCRIPTION:Calling all candle lovers! Spots are now open for our Fall/Winter Candle Fragrance Focus Group. We’re testing new fragrances that could potentially be our newest seasonal scent and we want real feedback from real folks! Join our Candle Fragrance Focus Group and help pick the next Dunkington candle scents! \nSnacks provided. BYOB for your drink of choice. Your $5 event fee will be donated to Starkville Strong.
URL:https://dunkington.com/event/fall-winter-candle-fragrance-focus-group/
LOCATION:Dunkington Art & Jewelry\, 109 South Lafayette St.\, Starkville\, MS\, 39759\, United States
CATEGORIES:Creative Experiences,Downtown Event,Dunkington Event
ATTACH;FMTTYPE=image/png:https://dunkington.com/wp-content/uploads/2025/05/Beige-and-Green-Photo-Collage-Matcha-Drink-Instagram-Post.png
END:VEVENT
BEGIN:VEVENT
DTSTART;TZID=America/Chicago:20250503T090000
DTEND;TZID=America/Chicago:20250503T143000
DTSTAMP:20260423T105539
CREATED:20250310T170254Z
LAST-MODIFIED:20250310T175946Z
UID:5496-1746262800-1746282600@dunkington.com
SUMMARY:The Dachshund Derby
DESCRIPTION:We’re bringing our handmade dachshund themed jewelry and merchandise to the Dachshund Derby Art Market! Come shop unique\, locally crafted goods while cheering on the fastest little legs in town. It’s a day of art\, fun\, and adorable racing dachshunds – what more could you want? See you there!
URL:https://dunkington.com/event/the-dachshund-derby/
LOCATION:The Cotton District\, 612 University Drive\, Starkville\, MS\, 39759\, United States
CATEGORIES:Arts & Crafts Festivals
ATTACH;FMTTYPE=image/jpeg:https://dunkington.com/wp-content/uploads/2025/03/481920791_610133591908741_2102431367660813391_n-e1741629577430.jpg
END:VEVENT
BEGIN:VEVENT
DTSTART;TZID=America/Chicago:20250425T180000
DTEND;TZID=America/Chicago:20250425T200000
DTSTAMP:20260423T105539
CREATED:20250310T172603Z
LAST-MODIFIED:20250423T205440Z
UID:5501-1745604000-1745611200@dunkington.com
SUMMARY:Wicks & Wine: A Candle Pouring Party
DESCRIPTION:Unwind\, sip\, and get creative at Wicks & Wine! This laid-back candle pouring party is all about fun\, fragrance\, and good company. We’ll provide everything you need – premium coconut wax\, a variety of scents\, and step-by-step guidance. You bring the wine\, snacks\, and your creative spirit. Grab some friends and pour your own custom candle!
URL:https://dunkington.com/event/wicks-wine-a-candle-pouring-party/
LOCATION:Dunkington Art & Jewelry\, 109 South Lafayette St.\, Starkville\, MS\, 39759\, United States
CATEGORIES:Creative Experiences,Dunkington Event
ATTACH;FMTTYPE=image/png:https://dunkington.com/wp-content/uploads/2025/03/6-4.png
END:VEVENT
BEGIN:VEVENT
DTSTART;TZID=America/Chicago:20250419T090000
DTEND;TZID=America/Chicago:20250419T150000
DTSTAMP:20260423T105539
CREATED:20250310T165734Z
LAST-MODIFIED:20250310T174624Z
UID:5491-1745053200-1745074800@dunkington.com
SUMMARY:The Cotton District Arts Festival
DESCRIPTION:We’re setting up shop at the Cotton District Arts Festival\, bringing our handmade candles\, jewelry\, and more! Swing by for a day filled with art\, music\, and local flavor – plus\, grab something one-of-a-kind while you’re at it. See you there!
URL:https://dunkington.com/event/the-cotton-district-arts-festival/
LOCATION:The Cotton District\, 612 University Drive\, Starkville\, MS\, 39759\, United States
CATEGORIES:Arts & Crafts Festivals
ATTACH;FMTTYPE=image/png:https://dunkington.com/wp-content/uploads/2025/03/standard-black-logo-2_orig.png
END:VEVENT
BEGIN:VEVENT
DTSTART;TZID=America/Chicago:20250329T100000
DTEND;TZID=America/Chicago:20250329T140000
DTSTAMP:20260423T105539
CREATED:20250310T165050Z
LAST-MODIFIED:20250310T174857Z
UID:5487-1743242400-1743256800@dunkington.com
SUMMARY:The Rainbow Bazaar
DESCRIPTION:We’re bringing our handmade candles\, jewelry\, and rainbow creations to The Rainbow Bazaar! Celebrate art\, inclusivity\, and community while shopping unique\, locally crafted goods. Come say hi and snag something special!
URL:https://dunkington.com/event/the-rainbow-bazaar/
LOCATION:Fire Station Park\, 503 East Lampkin Street\, Starkville\, MS\, 39759\, United States
CATEGORIES:Arts & Crafts Festivals
ATTACH;FMTTYPE=image/png:https://dunkington.com/wp-content/uploads/2025/03/RB-logo-horizontal.png
END:VEVENT
BEGIN:VEVENT
DTSTART;TZID=America/Chicago:20250328T173000
DTEND;TZID=America/Chicago:20250328T200000
DTSTAMP:20260423T105539
CREATED:20250310T164422Z
LAST-MODIFIED:20250310T175854Z
UID:5485-1743183000-1743192000@dunkington.com
SUMMARY:unTapped
DESCRIPTION:Untapped is Starkville’s premier night of craft beer tasting\, exclusive shopping deals\, and downtown excitement! Enjoy 20% off storewide at participating local shops while sampling a curated selection of craft brews.
URL:https://dunkington.com/event/untapped/
LOCATION:Dunkington Art & Jewelry\, 109 South Lafayette St.\, Starkville\, MS\, 39759\, United States
CATEGORIES:Downtown Event
ATTACH;FMTTYPE=image/jpeg:https://dunkington.com/wp-content/uploads/2025/03/Untapped-2025-Instagram.jpg
END:VEVENT
BEGIN:VEVENT
DTSTART;TZID=America/Chicago:20250315T110000
DTEND;TZID=America/Chicago:20250315T180000
DTSTAMP:20260423T105539
CREATED:20250310T164141Z
LAST-MODIFIED:20250310T175418Z
UID:5483-1742036400-1742061600@dunkington.com
SUMMARY:Spring Open House
DESCRIPTION:Local shops are celebrating the season with special deals\, fresh finds\, and a festive shopping atmosphere! Stop by Dunkington to explore unique boutiques\, enjoy a day of springtime fun\, and be the first to snag our brand-new spring candle collection – 20% off during the event!
URL:https://dunkington.com/event/spring-open-house/
LOCATION:Dunkington Art & Jewelry\, 109 South Lafayette St.\, Starkville\, MS\, 39759\, United States
CATEGORIES:Downtown Event,Dunkington Event
ATTACH;FMTTYPE=image/png:https://dunkington.com/wp-content/uploads/2025/03/Pretty-Floral-Border-Spring-Quote-Instagram-Post-1.png
END:VEVENT
END:VCALENDAR